BEGIN:VCALENDAR
PRODID:-//Dr. Thomas Wagner\, TUM WWW & Online Services//myTUM Advanced Calendaring 0.1//DE
VERSION:2.0
METHOD:GET
BEGIN:VTIMEZONE
TZID:Europe/Berlin
BEGIN:STANDARD
DTSTART:20071028T010000
TZOFFSETTO:+0100
TZOFFSETFROM:+0000
TZNAME:CET
END:STANDARD
BEGIN:DAYLIGHT
TZOFFSETTO:+0200
TZOFFSETFROM:+0100
TZNAME:CEST
DTSTART:20080330T020000
END:DAYLIGHT
END:VTIMEZONE
BEGIN:VEVENT
SEQUENCE:1
TRANSP:OPAQUE
UID:termine_Event.2012-06-18.3116703986_portal.mytum.de
DTSTART;TZID=Europe/Berlin:20120620T133000
ORGANIZER;CN="info@gfv-tum.de ":mailto:info@gfv-tum.de
DTSTAMP:20260423T215131
LAST-MODIFIED:20120618T172636
CATEGORIES:VORTRAG
SUMMARY:Guest Lecture: The Costa Concordia Case - Law, Media, Politics: the Way to Win
DESCRIPTION:Am 20. Juni wird John A. Eaves jr. einer Einladung der auf Verbraucherstudien spezialisierten Technischen Universität München folgen und im Zusammenhang mit dem Fall Costa Concordia eine Gastvorlesung zum Thema: „Law, Media, Politics: The Way to Win“ halten. 
CONTACT:info@gfv-tum.de 
LOCATION:Lecture Room 0506.EG.606 (Theresianum, Theresienstrasse)
CLASS:PUBLIC
URL;VALUE=URL:https://portal.mytum.de/termine/Event.2012-06-18.3116703986
ATTACH;VALUE=URI:http://www.gfv-tum.de/
CREATED:20120618T172636
DTEND;TZID=Europe/Berlin:20120620T150000
END:VEVENT
END:VCALENDAR
