BEGIN:VCALENDAR
PRODID:-//Dr. Thomas Wagner\, TUM WWW & Online Services//myTUM Advanced Calendaring 0.1//DE
VERSION:2.0
METHOD:GET
BEGIN:VTIMEZONE
TZID:Europe/Berlin
BEGIN:STANDARD
DTSTART:20071028T010000
TZOFFSETTO:+0100
TZOFFSETFROM:+0000
TZNAME:CET
END:STANDARD
BEGIN:DAYLIGHT
TZOFFSETTO:+0200
TZOFFSETFROM:+0100
TZNAME:CEST
DTSTART:20080330T020000
END:DAYLIGHT
END:VTIMEZONE
BEGIN:VEVENT
SEQUENCE:1
TRANSP:OPAQUE
UID:termine_Event.2012-05-22.2599221294_portal.mytum.de
DTSTART;TZID=Europe/Berlin:20120523T180000
ORGANIZER;CN="Marco Crispien, marco.crispien@tuinvest.de":mailto:marco.crispien@tuinvest.de
DTSTAMP:20260423T164036
LAST-MODIFIED:20120522T160912
CATEGORIES:VORTRAG
SUMMARY:Vortrag TU-Investment-Club: Dr. Wolfgang Leoni (CIO Sal. Oppenheim): "Market-Timing"
CONTACT:Marco Crispien, marco.crispien@tuinvest.de
LOCATION:TU München Stammgelände - Raum 1180
CLASS:PUBLIC
URL;VALUE=URL:https://portal.mytum.de/termine/Event.2012-05-22.2599221294
CREATED:20120522T160912
DTEND;TZID=Europe/Berlin:20120523T193000
END:VEVENT
END:VCALENDAR
