BEGIN:VCALENDAR
PRODID:-//Dr. Thomas Wagner\, TUM WWW & Online Services//myTUM Advanced Calendaring 0.1//DE
VERSION:2.0
METHOD:GET
BEGIN:VTIMEZONE
TZID:Europe/Berlin
BEGIN:STANDARD
DTSTART:20071028T010000
TZOFFSETTO:+0100
TZOFFSETFROM:+0000
TZNAME:CET
END:STANDARD
BEGIN:DAYLIGHT
TZOFFSETTO:+0200
TZOFFSETFROM:+0100
TZNAME:CEST
DTSTART:20080330T020000
END:DAYLIGHT
END:VTIMEZONE
BEGIN:VEVENT
SEQUENCE:1
TRANSP:OPAQUE
UID:termine_Event.2012-04-25.6891782641_portal.mytum.de
DTSTART;TZID=Europe/Berlin:20120509T093000
ORGANIZER;CN="Undine Ziller":mailto:u.ziller@tum.de
DTSTAMP:20260422T050132
LAST-MODIFIED:20120505T113315
CATEGORIES:FORTBILDUNG
SUMMARY:IKOM Life Science - Zwei Tage, mehr als 30 Firmen, ein Thema: Life Science
DESCRIPTION:Du bist Student der Lebensmittel- oder Biowissenschaften und möchtest wissen, was genau Du eigentlich aus deinem Studium machen kannst? Oder weißt Du es schon und brauchst nur noch die passende Einstiegsmöglichkeit? Vielleicht suchst Du auch ein Praktikum, eine Werksstudentenstelle, ein Traineeprogramm? In jedem Fall bist Du auf der IKOM Life Science richtig! Auf dem Campus Weihenstephan stellen wir Dir am 09.05. & 10.05.2012 über 30 Firmen vor, die an Dir interessiert sind. Jede Firma hat dabei einen Stand, an dem Du direkt Infos bekommst.
LOCATION:Wissenschaftszentrum Weihenstephan
RRULE:FREQ=DAILY;INTERVAL=1;UNTIL=20120510T235959
CLASS:PUBLIC
URL;VALUE=URL:https://portal.mytum.de/termine/Event.2012-04-25.6891782641
ATTACH;VALUE=URI:http://www.ikom.tum.de/students/lifescience
CREATED:20120425T135807
DTEND;TZID=Europe/Berlin:20120510T160000
END:VEVENT
END:VCALENDAR
