BEGIN:VCALENDAR
PRODID:-//Dr. Thomas Wagner\, TUM WWW & Online Services//myTUM Advanced Calendaring 0.1//DE
VERSION:2.0
METHOD:GET
BEGIN:VTIMEZONE
TZID:Europe/Berlin
BEGIN:STANDARD
DTSTART:20071028T010000
TZOFFSETTO:+0100
TZOFFSETFROM:+0000
TZNAME:CET
END:STANDARD
BEGIN:DAYLIGHT
TZOFFSETTO:+0200
TZOFFSETFROM:+0100
TZNAME:CEST
DTSTART:20080330T020000
END:DAYLIGHT
END:VTIMEZONE
BEGIN:VEVENT
SEQUENCE:1
TRANSP:OPAQUE
UID:termine_Event.2012-04-16.3439510702_portal.mytum.de
DTSTART;TZID=Europe/Berlin:20120524T170000
ORGANIZER;CN="info@tum-ias.de":mailto:info@tum-ias.de
DTSTAMP:20260421T062953
LAST-MODIFIED:20120416T163354
CATEGORIES:VORTRAG
SUMMARY:Science and Society - Meet with Excellence
DESCRIPTION:Titel des Vortrags: Die Psychologie des Risikos: Wie Menschen mit Ungewissheit umgehen
CONTACT:info@tum-ias.de
LOCATION:TUM Institute for Advanced Study, Auditorium (Raum 0.001, EG), Lichtenbergstraße 2a, 85748 Garching
CLASS:PUBLIC
URL;VALUE=URL:https://portal.mytum.de/termine/Event.2012-04-16.3439510702
ATTACH;VALUE=URI:http://www.tum-ias.de/news-and-events/events/upcoming-events/article/lecture-series-on-science-and-society-meet-with-excellence-1.html
CREATED:20120416T161717
DTEND;TZID=Europe/Berlin:20120524T183000
END:VEVENT
END:VCALENDAR
