BEGIN:VCALENDAR
PRODID:-//Dr. Thomas Wagner\, TUM WWW & Online Services//myTUM Advanced Calendaring 0.1//DE
VERSION:2.0
METHOD:GET
BEGIN:VTIMEZONE
TZID:Europe/Berlin
BEGIN:STANDARD
DTSTART:20071028T010000
TZOFFSETTO:+0100
TZOFFSETFROM:+0000
TZNAME:CET
END:STANDARD
BEGIN:DAYLIGHT
TZOFFSETTO:+0200
TZOFFSETFROM:+0100
TZNAME:CEST
DTSTART:20080330T020000
END:DAYLIGHT
END:VTIMEZONE
BEGIN:VEVENT
SEQUENCE:1
TRANSP:OPAQUE
UID:termine_Event.2012-04-11.8261952148_portal.mytum.de
DTSTART;TZID=Europe/Berlin:20120705T180000
ORGANIZER;CN="Dipl.-Ing. Markus Wilde (m.wilde@lrt.mw.tum.de)":mailto:m.wilde@lrt.mw.tum.de
DTSTAMP:20260423T130738
LAST-MODIFIED:20120411T094615
CATEGORIES:VORTRAG
SUMMARY:Die Mobile Raketenbasis des DLR – Von REXUS bis SHEFEX-II
CONTACT:Dipl.-Ing. Markus Wilde (m.wilde@lrt.mw.tum.de)
LOCATION:MW 0250 - Fakultät für Maschinenwesen, Garching
CLASS:PUBLIC
URL;VALUE=URL:https://portal.mytum.de/termine/Event.2012-04-11.8261952148
CREATED:20120411T094615
DTEND;TZID=Europe/Berlin:20120705T193000
END:VEVENT
END:VCALENDAR
