BEGIN:VCALENDAR
PRODID:-//Dr. Thomas Wagner\, TUM WWW & Online Services//myTUM Advanced Calendaring 0.1//DE
VERSION:2.0
METHOD:GET
BEGIN:VTIMEZONE
TZID:Europe/Berlin
BEGIN:STANDARD
DTSTART:20071028T010000
TZOFFSETTO:+0100
TZOFFSETFROM:+0000
TZNAME:CET
END:STANDARD
BEGIN:DAYLIGHT
TZOFFSETTO:+0200
TZOFFSETFROM:+0100
TZNAME:CEST
DTSTART:20080330T020000
END:DAYLIGHT
END:VTIMEZONE
BEGIN:VEVENT
SEQUENCE:1
TRANSP:OPAQUE
UID:termine_Event.2012-01-09.9906176112_portal.mytum.de
DTSTART;TZID=Europe/Berlin:20120119T171500
ORGANIZER;CN="Petra Wick":mailto:petra.wick@tum.de
DTSTAMP:20260423T215111
LAST-MODIFIED:20120109T111452
CATEGORIES:VORTRAG
SUMMARY:Repressors of flowering in Arabidopsis thaliana.
CONTACT:Christine Gietl
LOCATION:Hörsaal 12, Biologikum, Weihenstephan
CLASS:PUBLIC
URL;VALUE=URL:https://portal.mytum.de/termine/Event.2012-01-09.9906176112
CREATED:20120109T105350
DTEND;TZID=Europe/Berlin:20120119T181500
END:VEVENT
END:VCALENDAR
