BEGIN:VCALENDAR
PRODID:-//Dr. Thomas Wagner\, TUM WWW & Online Services//myTUM Advanced Calendaring 0.1//DE
VERSION:2.0
METHOD:GET
BEGIN:VTIMEZONE
TZID:Europe/Berlin
BEGIN:STANDARD
DTSTART:20071028T010000
TZOFFSETTO:+0100
TZOFFSETFROM:+0000
TZNAME:CET
END:STANDARD
BEGIN:DAYLIGHT
TZOFFSETTO:+0200
TZOFFSETFROM:+0100
TZNAME:CEST
DTSTART:20080330T020000
END:DAYLIGHT
END:VTIMEZONE
BEGIN:VEVENT
SEQUENCE:1
TRANSP:OPAQUE
UID:termine_Event.2011-12-20.8367831008_portal.mytum.de
DTSTART;TZID=Europe/Berlin:20120118T080000
ORGANIZER;CN="Tim Kettenring":mailto:tim.kettenring@tum.de
DTSTAMP:20260422T170404
LAST-MODIFIED:20111220T213256
CATEGORIES:VORTRAG
SUMMARY:Gastvortrag Hr. Bauer - Vorstandsvorsitzender Infineon
DESCRIPTION:Gastvortrag durch Hr. Bauer, Vorstandsvorsitzender von Infineon, im Rahmen der Controlling Vorlesung Zuhörer aller Richtungen willkommen!
LOCATION;ALTREP="https://portal.mytum.de/displayRoomMap?roomid=0980@0509":0980@0509, AUDIMAX, Siemens-Hörsaal, Auditorium Maximum, Gebäude 0509 (Wienandsbau)
CLASS:PUBLIC
URL;VALUE=URL:https://portal.mytum.de/termine/Event.2011-12-20.8367831008
CREATED:20111220T212455
DTEND;TZID=Europe/Berlin:20120118T093000
END:VEVENT
END:VCALENDAR
