BEGIN:VCALENDAR
PRODID:-//Dr. Thomas Wagner\, TUM WWW & Online Services//myTUM Advanced Calendaring 0.1//DE
VERSION:2.0
METHOD:GET
BEGIN:VTIMEZONE
TZID:Europe/Berlin
BEGIN:STANDARD
DTSTART:20071028T010000
TZOFFSETTO:+0100
TZOFFSETFROM:+0000
TZNAME:CET
END:STANDARD
BEGIN:DAYLIGHT
TZOFFSETTO:+0200
TZOFFSETFROM:+0100
TZNAME:CEST
DTSTART:20080330T020000
END:DAYLIGHT
END:VTIMEZONE
BEGIN:VEVENT
SEQUENCE:1
TRANSP:OPAQUE
UID:termine_Event.2011-12-07.4008191812_portal.mytum.de
DTSTART;TZID=Europe/Berlin:20120123T171500
ORGANIZER;CN="Olga Marini":mailto:marini@mse.tum.de
DTSTAMP:20260425T012802
LAST-MODIFIED:20120112T130820
CATEGORIES:VORTRAG
SUMMARY:Ringvorlesung World of Engineering an der MSE
DESCRIPTION:Thema: Interactions of Humanoid Robotics and Neuroscience: Science, Engineering and Society
CONTACT:Dr. Selma Speith-Kölbl
LOCATION:Hörsaal 2 Interims
CLASS:PUBLIC
URL;VALUE=URL:https://portal.mytum.de/termine/Event.2011-12-07.4008191812
ATTACH;VALUE=URI:http://www.engineering.mse.tum.de/studium/ringvorlesung/
CREATED:20111207T121652
DTEND;TZID=Europe/Berlin:20120123T190000
END:VEVENT
END:VCALENDAR
