BEGIN:VCALENDAR
PRODID:-//Dr. Thomas Wagner\, TUM WWW & Online Services//myTUM Advanced Calendaring 0.1//DE
VERSION:2.0
METHOD:GET
BEGIN:VTIMEZONE
TZID:Europe/Berlin
BEGIN:STANDARD
DTSTART:20071028T010000
TZOFFSETTO:+0100
TZOFFSETFROM:+0000
TZNAME:CET
END:STANDARD
BEGIN:DAYLIGHT
TZOFFSETTO:+0200
TZOFFSETFROM:+0100
TZNAME:CEST
DTSTART:20080330T020000
END:DAYLIGHT
END:VTIMEZONE
BEGIN:VEVENT
SEQUENCE:1
TRANSP:OPAQUE
UID:termine_Event.2011-11-15.9764483827_portal.mytum.de
DTSTART;TZID=Europe/Berlin:20120113T170000
ORGANIZER;CN="Petra Weinmann":mailto:petra.weinmann@tum.de
DTSTAMP:20260421T022759
LAST-MODIFIED:20111115T130539
CATEGORIES:VORTRAG
SUMMARY:Kinder Uni: Euro, Dollar, Yen, Peseten - Warum brauchen wir Geld?
CONTACT:Kultur &amp; Spielraum e.V. Telefon 089 38 98 91 39
LOCATION:TUM Arcisstr. 21, Hörsaal 1200
CLASS:PUBLIC
URL;VALUE=URL:https://portal.mytum.de/termine/Event.2011-11-15.9764483827
CREATED:20111115T120717
DTEND;TZID=Europe/Berlin:20120113T180000
END:VEVENT
END:VCALENDAR
