BEGIN:VCALENDAR
PRODID:-//Dr. Thomas Wagner\, TUM WWW & Online Services//myTUM Advanced Calendaring 0.1//DE
VERSION:2.0
METHOD:GET
BEGIN:VTIMEZONE
TZID:Europe/Berlin
BEGIN:STANDARD
DTSTART:20071028T010000
TZOFFSETTO:+0100
TZOFFSETFROM:+0000
TZNAME:CET
END:STANDARD
BEGIN:DAYLIGHT
TZOFFSETTO:+0200
TZOFFSETFROM:+0100
TZNAME:CEST
DTSTART:20080330T020000
END:DAYLIGHT
END:VTIMEZONE
BEGIN:VEVENT
SEQUENCE:1
TRANSP:OPAQUE
UID:termine_Event.2011-11-15.7462599245_portal.mytum.de
DTSTART;TZID=Europe/Berlin:20120417T181500
ORGANIZER;CN="herzog.ka@tum.de":mailto:herzog.ka@tum.de
DTSTAMP:20260420T062343
LAST-MODIFIED:20111115T092706
CATEGORIES:VORTRAG
SUMMARY:Von der Morphologie zur Funktion - Was können moderne, bildgebende diagnostische Verfahren leisten?
CONTACT:herzog.ka@tum.de
LOCATION;ALTREP="https://portal.mytum.de/displayRoomMap?roomid=0314@0103":0314@0103, HOERSAAL MIT EXP.-BUEHNE, Gebäude 0103 (El. Masch. / Geräte)
CLASS:PUBLIC
URL;VALUE=URL:https://portal.mytum.de/termine/Event.2011-11-15.7462599245
CREATED:20111115T090026
DTEND;TZID=Europe/Berlin:20120417T200000
END:VEVENT
END:VCALENDAR
