BEGIN:VCALENDAR
PRODID:-//Dr. Thomas Wagner\, TUM WWW & Online Services//myTUM Advanced Calendaring 0.1//DE
VERSION:2.0
METHOD:GET
BEGIN:VTIMEZONE
TZID:Europe/Berlin
BEGIN:STANDARD
DTSTART:20071028T010000
TZOFFSETTO:+0100
TZOFFSETFROM:+0000
TZNAME:CET
END:STANDARD
BEGIN:DAYLIGHT
TZOFFSETTO:+0200
TZOFFSETFROM:+0100
TZNAME:CEST
DTSTART:20080330T020000
END:DAYLIGHT
END:VTIMEZONE
BEGIN:VEVENT
SEQUENCE:1
TRANSP:OPAQUE
UID:termine_Event.2011-10-17.3321259015_portal.mytum.de
DTSTART;TZID=Europe/Berlin:20111020T170000
ORGANIZER;CN="Martina Spreng":mailto:martina.spreng@tum.de
DTSTAMP:20260424T052622
LAST-MODIFIED:20111017T084020
CATEGORIES:VORTRAG
SUMMARY:The edge of chaos
CONTACT:Martina Spreng
LOCATION;ALTREP="https://portal.mytum.de/displayRoomMap?roomid=1070 ZG@0101":1070 ZG@0101, Hörsaal mit Exp.-Bühne, Gebäude 0101 (U-Trakt)
CLASS:PUBLIC
URL;VALUE=URL:https://portal.mytum.de/termine/Event.2011-10-17.3321259015
CREATED:20111017T084020
DTEND;TZID=Europe/Berlin:20111020T200000
END:VEVENT
END:VCALENDAR
