BEGIN:VCALENDAR
PRODID:-//Dr. Thomas Wagner\, TUM WWW & Online Services//myTUM Advanced Calendaring 0.1//DE
VERSION:2.0
METHOD:GET
BEGIN:VTIMEZONE
TZID:Europe/Berlin
BEGIN:STANDARD
DTSTART:20071028T010000
TZOFFSETTO:+0100
TZOFFSETFROM:+0000
TZNAME:CET
END:STANDARD
BEGIN:DAYLIGHT
TZOFFSETTO:+0200
TZOFFSETFROM:+0100
TZNAME:CEST
DTSTART:20080330T020000
END:DAYLIGHT
END:VTIMEZONE
BEGIN:VEVENT
SEQUENCE:1
TRANSP:OPAQUE
UID:termine_Event.2011-10-05.5958376378_portal.mytum.de
DTSTART;TZID=Europe/Berlin:20111115T190000
ORGANIZER;CN="Vladimira Vodopivec":mailto:vladimira.vodopivec@mytum.de
DTSTAMP:20260421T140849
LAST-MODIFIED:20111028T195017
CATEGORIES:SOCIAL EVENT
SUMMARY:Adakemischer Jahresgottesdienst
DESCRIPTION:Dieses Jahr findet der Gottesdienst NICHT in der Basilika St. Bonifaz, sondern im St. Markus, Gabelsbergerstraße 6 | 80333 München - neben der Pinakothek der Moderne. Ökumenischer Gottesdienst zum Beginn des akademischen Jahres. Er wird zum dritten Mal veranstaltet von der TU München zusammen mit der Hochschule für Musik und Theater. In diesem Gottesdienst wird auch der verstorbenen Angehörigen der TUM des vergangenen Jahres gedacht.
CONTACT:Vladimira Vodopivec
LOCATION:St. Markus (NICHT St. Bonifaz, wie angekündigt!!), Gabelsbergerstraße 6 | 80333 München - neben der Pinakothek der Moderne
CLASS:PUBLIC
URL;VALUE=URL:https://portal.mytum.de/termine/Event.2011-10-05.5958376378
CREATED:20111005T145223
DTEND;TZID=Europe/Berlin:20111115T210000
END:VEVENT
END:VCALENDAR
