BEGIN:VCALENDAR
PRODID:-//Dr. Thomas Wagner\, TUM WWW & Online Services//myTUM Advanced Calendaring 0.1//DE
VERSION:2.0
METHOD:GET
BEGIN:VTIMEZONE
TZID:Europe/Berlin
BEGIN:STANDARD
DTSTART:20071028T010000
TZOFFSETTO:+0100
TZOFFSETFROM:+0000
TZNAME:CET
END:STANDARD
BEGIN:DAYLIGHT
TZOFFSETTO:+0200
TZOFFSETFROM:+0100
TZNAME:CEST
DTSTART:20080330T020000
END:DAYLIGHT
END:VTIMEZONE
BEGIN:VEVENT
SEQUENCE:1
TRANSP:OPAQUE
UID:termine_Event.2011-09-15.4766065151_portal.mytum.de
DTSTART;TZID=Europe/Berlin:20110922T160000
ORGANIZER;CN="Katharina Lang":mailto:katharina.lang@tum.de
DTSTAMP:20260419T231451
LAST-MODIFIED:20110915T131015
CATEGORIES:SOCIAL EVENT
SUMMARY:GSISH 3Year Jubilee
DESCRIPTION:The TUM Graduate School of Information Science in Health is turning 3 years old! During this time, our doctoral candidates together with their project leaders have produced a high research output which we will for the first time present to a broader public!
CONTACT:Dr. Ursula Mühle
LOCATION:TUM Institute for Advanced Study (IAS)
CLASS:PUBLIC
URL;VALUE=URL:https://portal.mytum.de/termine/Event.2011-09-15.4766065151
ATTACH;VALUE=URI:http://gsish-jubilee.org
CREATED:20110915T131015
DTEND;TZID=Europe/Berlin:20110922T230000
END:VEVENT
END:VCALENDAR
