BEGIN:VCALENDAR
PRODID:-//Dr. Thomas Wagner\, TUM WWW & Online Services//myTUM Advanced Calendaring 0.1//DE
VERSION:2.0
METHOD:GET
BEGIN:VTIMEZONE
TZID:Europe/Berlin
BEGIN:STANDARD
DTSTART:20071028T010000
TZOFFSETTO:+0100
TZOFFSETFROM:+0000
TZNAME:CET
END:STANDARD
BEGIN:DAYLIGHT
TZOFFSETTO:+0200
TZOFFSETFROM:+0100
TZNAME:CEST
DTSTART:20080330T020000
END:DAYLIGHT
END:VTIMEZONE
BEGIN:VEVENT
SEQUENCE:1
TRANSP:OPAQUE
UID:termine_Event.2011-08-30.6665968005_portal.mytum.de
DTSTART;TZID=Europe/Berlin:20120130T181500
ORGANIZER;CN="info@cvl-a.tum.de":mailto:info@cvl-a.tum.de
DTSTAMP:20260421T054107
LAST-MODIFIED:20111005T113815
CATEGORIES:VORTRAG
SUMMARY:Schaltstelle Gehirn - Von der Evolution des Geistes zur Neurotechnologie und Robotik
CONTACT:info@cvl-a.tum.de
LOCATION:Raum 2300
CLASS:PUBLIC
URL;VALUE=URL:https://portal.mytum.de/termine/Event.2011-08-30.6665968005
ATTACH;VALUE=URI:http://www.cvl-a.de/index.php?option=com_content&view=article&id=605:schaltstelle-gehirn&catid=79&Itemid=67
CREATED:20110830T153335
DTEND;TZID=Europe/Berlin:20120130T200000
END:VEVENT
END:VCALENDAR
