BEGIN:VCALENDAR
PRODID:-//Dr. Thomas Wagner\, TUM WWW & Online Services//myTUM Advanced Calendaring 0.1//DE
VERSION:2.0
METHOD:GET
BEGIN:VTIMEZONE
TZID:Europe/Berlin
BEGIN:STANDARD
DTSTART:20071028T010000
TZOFFSETTO:+0100
TZOFFSETFROM:+0000
TZNAME:CET
END:STANDARD
BEGIN:DAYLIGHT
TZOFFSETTO:+0200
TZOFFSETFROM:+0100
TZNAME:CEST
DTSTART:20080330T020000
END:DAYLIGHT
END:VTIMEZONE
BEGIN:VEVENT
SEQUENCE:1
TRANSP:OPAQUE
UID:termine_Event.2011-08-17.1249125820_portal.mytum.de
DTSTART;TZID=Europe/Berlin:20111109T180000
ORGANIZER;CN="event.augen@lrz.tum.de":mailto:event.augen@lrz.tum.de
DTSTAMP:20260420T210022
LAST-MODIFIED:20110817T124547
SUMMARY:Infoabend: Tränenwegserkrankungen
CONTACT:event.augen@lrz.tum.de
LOCATION:Hörsaal C, Klinikum rechts der Isar, Ismaninger Straße 22, 81675 München
CLASS:PUBLIC
URL;VALUE=URL:https://portal.mytum.de/termine/Event.2011-08-17.1249125820
CREATED:20110817T124547
DTEND;TZID=Europe/Berlin:20111109T184500
END:VEVENT
END:VCALENDAR
