BEGIN:VCALENDAR
PRODID:-//Dr. Thomas Wagner\, TUM WWW & Online Services//myTUM Advanced Calendaring 0.1//DE
VERSION:2.0
METHOD:GET
BEGIN:VTIMEZONE
TZID:Europe/Berlin
BEGIN:STANDARD
DTSTART:20071028T010000
TZOFFSETTO:+0100
TZOFFSETFROM:+0000
TZNAME:CET
END:STANDARD
BEGIN:DAYLIGHT
TZOFFSETTO:+0200
TZOFFSETFROM:+0100
TZNAME:CEST
DTSTART:20080330T020000
END:DAYLIGHT
END:VTIMEZONE
BEGIN:VEVENT
SEQUENCE:1
TRANSP:OPAQUE
UID:termine_Event.2011-07-13.9669850175_portal.mytum.de
DTSTART;TZID=Europe/Berlin:20110928T090000
ORGANIZER;CN="Frau Dr. Isabell Schneweis-Fleischmann, Hans-Eisenmann-Zentrum@wzw.tum.de":mailto:Hans-Eisenmann-Zentrum@wzw.tum.de
DTSTAMP:20260426T030731
LAST-MODIFIED:20110713T084652
CATEGORIES:TAGUNG
SUMMARY:Agrarwissenschaftliches Symposium
CONTACT:Frau Dr. Isabell Schneweis-Fleischmann, Hans-Eisenmann-Zentrum@wzw.tum.de
LOCATION:Hörsaal 15, Zentrales Hörsaalgebäude, 85354 Freising-Weihenstephan
CLASS:PUBLIC
URL;VALUE=URL:https://portal.mytum.de/termine/Event.2011-07-13.9669850175
CREATED:20110713T084601
DTEND;TZID=Europe/Berlin:20110928T180000
END:VEVENT
END:VCALENDAR
