BEGIN:VCALENDAR
PRODID:-//Dr. Thomas Wagner\, TUM WWW & Online Services//myTUM Advanced Calendaring 0.1//DE
VERSION:2.0
METHOD:GET
BEGIN:VTIMEZONE
TZID:Europe/Berlin
BEGIN:STANDARD
DTSTART:20071028T010000
TZOFFSETTO:+0100
TZOFFSETFROM:+0000
TZNAME:CET
END:STANDARD
BEGIN:DAYLIGHT
TZOFFSETTO:+0200
TZOFFSETFROM:+0100
TZNAME:CEST
DTSTART:20080330T020000
END:DAYLIGHT
END:VTIMEZONE
BEGIN:VEVENT
SEQUENCE:1
TRANSP:OPAQUE
UID:termine_Event.2011-07-11.4361268065_portal.mytum.de
DTSTART;TZID=Europe/Berlin:20110720T140000
ORGANIZER;CN="BayWa AG München, Frau Katharina Eichwald, Tel.: 089 92223400, e-mail: katharina.eichwald@baywa.de":mailto:katharina.eichwald@baywa.de
DTSTAMP:20260420T004434
LAST-MODIFIED:20111201T130912
SUMMARY:Die Bedeutung der Genossenschaften im modernen Umfeld - Gewinner in der Krise oder ein Auslaufmodell?
DESCRIPTION:Podiumsdiskussion im Rahmen der Lehrveranstaltung "Betriebswirtschaftslehre des Genossenschaftswesen" von Herrn Klaus Josef Lutz, Vorstandsvorsitzender der BayWa AG
CONTACT:BayWa AG München, Frau Katharina Eichwald, Tel.: 089 92223400, e-mail: katharina.eichwald@baywa.de
LOCATION:Hörsaal 2, Dekanatsgebäude des WZW, Alte Akademie 8, 85354 Freising-Weihenstephan
CLASS:PUBLIC
URL;VALUE=URL:https://portal.mytum.de/termine/Event.2011-07-11.4361268065
CREATED:20110711T110020
DTEND;TZID=Europe/Berlin:20110720T170000
END:VEVENT
END:VCALENDAR
