BEGIN:VCALENDAR
PRODID:-//Dr. Thomas Wagner\, TUM WWW & Online Services//myTUM Advanced Calendaring 0.1//DE
VERSION:2.0
METHOD:GET
BEGIN:VTIMEZONE
TZID:Europe/Berlin
BEGIN:STANDARD
DTSTART:20071028T010000
TZOFFSETTO:+0100
TZOFFSETFROM:+0000
TZNAME:CET
END:STANDARD
BEGIN:DAYLIGHT
TZOFFSETTO:+0200
TZOFFSETFROM:+0100
TZNAME:CEST
DTSTART:20080330T020000
END:DAYLIGHT
END:VTIMEZONE
BEGIN:VEVENT
SEQUENCE:1
TRANSP:OPAQUE
UID:termine_Event.2011-07-08.4437925904_portal.mytum.de
DTSTART;TZID=Europe/Berlin:20111021T140000
ORGANIZER;CN="Martina Spreng":mailto:martina.spreng@tum.de
DTSTAMP:20260424T060757
LAST-MODIFIED:20111017T120809
CATEGORIES:SOCIAL EVENT
SUMMARY:Tag der Fakultät EI
DESCRIPTION:Festakt und Ehrung der Promovierten: Festvortrag Ehrung der Promovierten Absolventenfeier anschließend geselliges Beisammensein 
CONTACT:Martina Spreng
LOCATION;ALTREP="https://portal.mytum.de/displayRoomMap?roomid=0980@0509":0980@0509, AUDIMAX, Siemens-Hörsaal, Auditorium Maximum, Gebäude 0509 (Wienandsbau)
CLASS:PUBLIC
URL;VALUE=URL:https://portal.mytum.de/termine/Event.2011-07-08.4437925904
CREATED:20110708T095755
DTEND;TZID=Europe/Berlin:20111021T210000
END:VEVENT
END:VCALENDAR
