BEGIN:VCALENDAR
PRODID:-//Dr. Thomas Wagner\, TUM WWW & Online Services//myTUM Advanced Calendaring 0.1//DE
VERSION:2.0
METHOD:GET
BEGIN:VTIMEZONE
TZID:Europe/Berlin
BEGIN:STANDARD
DTSTART:20071028T010000
TZOFFSETTO:+0100
TZOFFSETFROM:+0000
TZNAME:CET
END:STANDARD
BEGIN:DAYLIGHT
TZOFFSETTO:+0200
TZOFFSETFROM:+0100
TZNAME:CEST
DTSTART:20080330T020000
END:DAYLIGHT
END:VTIMEZONE
BEGIN:VEVENT
SEQUENCE:1
TRANSP:OPAQUE
UID:termine_Event.2011-06-21.9417008833_portal.mytum.de
DTSTART;TZID=Europe/Berlin:20110629T113000
ORGANIZER;CN="Gabriele Engler":mailto:gabriele.engler@tum.de
DTSTAMP:20260425T181628
LAST-MODIFIED:20110621T165837
CATEGORIES:VORTRAG
SUMMARY:Vortrag: Harald Krüger, Personalvorstand BMW »Die Mobilität der Zukunft gestalten. Die BMW Group – Menschen-Strategien-Visionen«
DESCRIPTION:Auch dieses Jahr konnte die IKOM wieder hochkarätige Redner gewinnen!
LOCATION:MW0001
CLASS:PUBLIC
URL;VALUE=URL:https://portal.mytum.de/termine/Event.2011-06-21.9417008833
CREATED:20110621T165802
DTEND;TZID=Europe/Berlin:20110629T123000
END:VEVENT
END:VCALENDAR
