BEGIN:VCALENDAR
PRODID:-//Dr. Thomas Wagner\, TUM WWW & Online Services//myTUM Advanced Calendaring 0.1//DE
VERSION:2.0
METHOD:GET
BEGIN:VTIMEZONE
TZID:Europe/Berlin
BEGIN:STANDARD
DTSTART:20071028T010000
TZOFFSETTO:+0100
TZOFFSETFROM:+0000
TZNAME:CET
END:STANDARD
BEGIN:DAYLIGHT
TZOFFSETTO:+0200
TZOFFSETFROM:+0100
TZNAME:CEST
DTSTART:20080330T020000
END:DAYLIGHT
END:VTIMEZONE
BEGIN:VEVENT
SEQUENCE:1
TRANSP:OPAQUE
UID:termine_Event.2011-05-05.6227818249_portal.mytum.de
DTSTART;TZID=Europe/Berlin:20110513T140000
ORGANIZER;CN="Ursula Eschbach":mailto:ursula.eschbach@tum.de
DTSTAMP:20260423T071002
LAST-MODIFIED:20110505T143548
CATEGORIES:WORKSHOP
SUMMARY:Mastermesse
DESCRIPTION:Am 13. Mai 2011 wird es wieder eine Master-Messe geben, bei der Sie sich über die Masterstudiengänge in der Fakultät für Informatik der TUM informieren können. Insbesondere auch Bachelorstudierende der Fakultät für Informatik der TUM im höheren Semester sind eingeladen, sich über die weiterführenden Studienmöglichkeiten und die Bewerbungsmodalitäten zu informieren. 
CONTACT:Dr. Angelika Reiser
LOCATION:Department of Informatics, Garching, Boltzmannstr. 3
CLASS:PUBLIC
URL;VALUE=URL:https://portal.mytum.de/termine/Event.2011-05-05.6227818249
ATTACH;VALUE=URI:http://www.in.tum.de/fileadmin/user_upload/Studiengaenge/Generell/Infoplakat11.pdf
CREATED:20110505T142814
DTEND;TZID=Europe/Berlin:20110513T173000
END:VEVENT
END:VCALENDAR
