BEGIN:VCALENDAR
PRODID:-//Dr. Thomas Wagner\, TUM WWW & Online Services//myTUM Advanced Calendaring 0.1//DE
VERSION:2.0
METHOD:GET
BEGIN:VTIMEZONE
TZID:Europe/Berlin
BEGIN:STANDARD
DTSTART:20071028T010000
TZOFFSETTO:+0100
TZOFFSETFROM:+0000
TZNAME:CET
END:STANDARD
BEGIN:DAYLIGHT
TZOFFSETTO:+0200
TZOFFSETFROM:+0100
TZNAME:CEST
DTSTART:20080330T020000
END:DAYLIGHT
END:VTIMEZONE
BEGIN:VEVENT
SEQUENCE:1
TRANSP:OPAQUE
UID:termine_Event.2011-05-04.2021076226_portal.mytum.de
DTSTART;TZID=Europe/Berlin:20110518T180000
ORGANIZER;CN="Eva Schuster email: eva.schuster@mri.tum.de; Tel.: 089 4140 2042":mailto:eva.schuster@mri.tum.de
DTSTAMP:20260421T140832
LAST-MODIFIED:20110504T151733
CATEGORIES:VORTRAG
SUMMARY:Vortrag Eugen Drewermann: Leben im Angesicht des Todes
DESCRIPTION:Der Theologe und Psychoanalytiker Dr. Eugen Drewermann spricht im Vortrag „Leben angesichts des Todes – zwei Märchen der Brüder Grimm“ über die Rolle und das Selbstverständnis des Arztes in der heutigen Gesellschaft und über die menschliche Angst vor dem Tod. 
CONTACT:Eva Schuster email: eva.schuster@mri.tum.de; Tel.: 089 4140 2042
LOCATION:Hörsaal B des Klinikums rechts der Isar, Ismaninger Str. 22, 81675 München
CLASS:PUBLIC
URL;VALUE=URL:https://portal.mytum.de/termine/Event.2011-05-04.2021076226
CREATED:20110504T151733
DTEND;TZID=Europe/Berlin:20110518T220000
END:VEVENT
END:VCALENDAR
