BEGIN:VCALENDAR
PRODID:-//Dr. Thomas Wagner\, TUM WWW & Online Services//myTUM Advanced Calendaring 0.1//DE
VERSION:2.0
METHOD:GET
BEGIN:VTIMEZONE
TZID:Europe/Berlin
BEGIN:STANDARD
DTSTART:20071028T010000
TZOFFSETTO:+0100
TZOFFSETFROM:+0000
TZNAME:CET
END:STANDARD
BEGIN:DAYLIGHT
TZOFFSETTO:+0200
TZOFFSETFROM:+0100
TZNAME:CEST
DTSTART:20080330T020000
END:DAYLIGHT
END:VTIMEZONE
BEGIN:VEVENT
SEQUENCE:1
TRANSP:OPAQUE
UID:termine_Event.2011-04-29.3876248508_portal.mytum.de
DTSTART;TZID=Europe/Berlin:20110512T180000
ORGANIZER;CN="Natalia Hutanu":mailto:hutanu@tum.de
DTSTAMP:20260424T200944
LAST-MODIFIED:20110429T113644
CATEGORIES:VORTRAG
SUMMARY:Masdar City: Transsolar KlimaEngineering
DESCRIPTION:Masdar City ist eine neuartige, ökologisch orientierte Stadt­ entwicklung 30 Kilometer östlich von Abu Dhabi gelegen. Masdar City soll vollständig durch erneuerbare Energien ver­ sorgt werden können und als musterhaftes Beispiel für ökologiebewußtes Bauen fungieren. Dieser Planungsansatz ist vor allem auf die in den letzten Jahren immer wichtiger werdenden Themen, wie Energiekosten und Energieein­ sparung zurückzuführen, die mit der Entwicklung unserer Gesellschaft einhergehen.
CONTACT:Sabina Karkos
LOCATION: Oskar von Miller Forum
CLASS:PUBLIC
URL;VALUE=URL:https://portal.mytum.de/termine/Event.2011-04-29.3876248508
ATTACH;VALUE=URI:http://www.oskarvonmillerforum.de/
CREATED:20110429T113644
DTEND;TZID=Europe/Berlin:20110512T200000
END:VEVENT
END:VCALENDAR
