BEGIN:VCALENDAR
PRODID:-//Dr. Thomas Wagner\, TUM WWW & Online Services//myTUM Advanced Calendaring 0.1//DE
VERSION:2.0
METHOD:GET
BEGIN:VTIMEZONE
TZID:Europe/Berlin
BEGIN:STANDARD
DTSTART:20071028T010000
TZOFFSETTO:+0100
TZOFFSETFROM:+0000
TZNAME:CET
END:STANDARD
BEGIN:DAYLIGHT
TZOFFSETTO:+0200
TZOFFSETFROM:+0100
TZNAME:CEST
DTSTART:20080330T020000
END:DAYLIGHT
END:VTIMEZONE
BEGIN:VEVENT
SEQUENCE:1
TRANSP:OPAQUE
UID:termine_Event.2011-02-22.1225828065_portal.mytum.de
DTSTART;TZID=Europe/Berlin:20110511T170000
ORGANIZER;CN="Antje Walliser":mailto:antje.walliser@tum.de
DTSTAMP:20260425T225405
LAST-MODIFIED:20110223T142112
CATEGORIES:VORTRAG
SUMMARY:TUM-WIN-Masterstudiengang und TUM-BWL-Masterstudiengang Informationsveranstaltung
CONTACT:Mgr. Ivana Bacakova
LOCATION:Raum wird noch bekannt gegeben
CLASS:PUBLIC
URL;VALUE=URL:https://portal.mytum.de/termine/Event.2011-02-22.1225828065
ATTACH;VALUE=URI:http://www.wi.tum.de
CREATED:20110222T115937
DTEND;TZID=Europe/Berlin:20110511T180000
END:VEVENT
END:VCALENDAR
