BEGIN:VCALENDAR
PRODID:-//Dr. Thomas Wagner\, TUM WWW & Online Services//myTUM Advanced Calendaring 0.1//DE
VERSION:2.0
METHOD:GET
BEGIN:VTIMEZONE
TZID:Europe/Berlin
BEGIN:STANDARD
DTSTART:20071028T010000
TZOFFSETTO:+0100
TZOFFSETFROM:+0000
TZNAME:CET
END:STANDARD
BEGIN:DAYLIGHT
TZOFFSETTO:+0200
TZOFFSETFROM:+0100
TZNAME:CEST
DTSTART:20080330T020000
END:DAYLIGHT
END:VTIMEZONE
BEGIN:VEVENT
SEQUENCE:1
TRANSP:OPAQUE
UID:termine_Event.2010-12-01.7609319154_portal.mytum.de
DTSTART;TZID=Europe/Berlin:20110127T151500
ORGANIZER;CN="Dr. Uta Raeder, uta.raeder@tum.de":mailto:uta.raeder@tum.de
DTSTAMP:20260422T085114
LAST-MODIFIED:20101201T191502
CATEGORIES:VORTRAG
SUMMARY:Naturbeobachtung-Experiment-Molekularbiologie: Integrative Ansätze zum Verständnis der aquatischen Biodiversität in einer Karstregion
CONTACT:Dr. Uta Raeder, uta.raeder@tum.de
LOCATION;ALTREP="https://portal.mytum.de/displayRoomMap?roomid=Limnologische Station@4401":Limnologische Station, Hofmark 1, 82393 Iffeldorf
CLASS:PUBLIC
URL;VALUE=URL:https://portal.mytum.de/termine/Event.2010-12-01.7609319154
CREATED:20101201T180814
DTEND;TZID=Europe/Berlin:20110127T160000
END:VEVENT
END:VCALENDAR
