BEGIN:VCALENDAR
PRODID:-//Dr. Thomas Wagner\, TUM WWW & Online Services//myTUM Advanced Calendaring 0.1//DE
VERSION:2.0
METHOD:GET
BEGIN:VTIMEZONE
TZID:Europe/Berlin
BEGIN:STANDARD
DTSTART:20071028T010000
TZOFFSETTO:+0100
TZOFFSETFROM:+0000
TZNAME:CET
END:STANDARD
BEGIN:DAYLIGHT
TZOFFSETTO:+0200
TZOFFSETFROM:+0100
TZNAME:CEST
DTSTART:20080330T020000
END:DAYLIGHT
END:VTIMEZONE
BEGIN:VEVENT
SEQUENCE:1
TRANSP:OPAQUE
UID:termine_Event.2010-10-20.8957882124_portal.mytum.de
DTSTART;TZID=Europe/Berlin:20101111T190000
ORGANIZER;CN="Thomas Bierling":mailto:t.bierling@tum.de
DTSTAMP:20260422T010202
LAST-MODIFIED:20111201T131224
CATEGORIES:VORTRAG
SUMMARY:Lessons learned from the joint Russian-Italian development of an advanced jet trainer: a personal view
DESCRIPTION:Forum Munich Aerospace Vortragstitel: Lessons learned from the joint Russian-Italian development of an advanced jet trainer: a personal view Referent: M.Sc. Paolo Mezzanotte, Marketing Director, RP Research and Projects s.r.l. Veranstalter:Institut für Luft- und Raumfahrt, Technische Universität München Seminar der Universitäten, der DGLR, des VDI, der AIAA und der RAeS 
CONTACT:Thomas Bierling
LOCATION:MW 1801, Fakultät für Maschinenwesen,Boltzmannstraße 15, D-85748 Garching bei München
CLASS:PUBLIC
URL;VALUE=URL:https://portal.mytum.de/termine/Event.2010-10-20.8957882124
CREATED:20101020T195754
DTEND;TZID=Europe/Berlin:20101111T203000
END:VEVENT
END:VCALENDAR
