BEGIN:VCALENDAR
PRODID:-//Dr. Thomas Wagner\, TUM WWW & Online Services//myTUM Advanced Calendaring 0.1//DE
VERSION:2.0
METHOD:GET
BEGIN:VTIMEZONE
TZID:Europe/Berlin
BEGIN:STANDARD
DTSTART:20071028T010000
TZOFFSETTO:+0100
TZOFFSETFROM:+0000
TZNAME:CET
END:STANDARD
BEGIN:DAYLIGHT
TZOFFSETTO:+0200
TZOFFSETFROM:+0100
TZNAME:CEST
DTSTART:20080330T020000
END:DAYLIGHT
END:VTIMEZONE
BEGIN:VEVENT
SEQUENCE:1
TRANSP:OPAQUE
UID:termine_Event.2010-10-13.3865910643_portal.mytum.de
DTSTART;TZID=Europe/Berlin:20110126T160000
ORGANIZER;CN="Dr. Isabell Schneweis-Fleischmann, Hans-Eisenmann-Zentrum@wzw.tum.de":mailto:Hans-Eisenmann-Zentrum@wzw.tum.de
DTSTAMP:20260422T170146
LAST-MODIFIED:20101013T103531
CATEGORIES:VORTRAG
SUMMARY:Wie und wo speichern Böden Kohlenstoff?
CONTACT:Dr. Isabell Schneweis-Fleischmann, Hans-Eisenmann-Zentrum@wzw.tum.de
LOCATION:Hörsaal 1, Alte Akademie 8, Dekanatsgebäude des WZW, 85354 Freising-Weihenstephan
CLASS:PUBLIC
URL;VALUE=URL:https://portal.mytum.de/termine/Event.2010-10-13.3865910643
CREATED:20101013T102253
DTEND;TZID=Europe/Berlin:20110126T180000
END:VEVENT
END:VCALENDAR
