BEGIN:VCALENDAR
PRODID:-//Dr. Thomas Wagner\, TUM WWW & Online Services//myTUM Advanced Calendaring 0.1//DE
VERSION:2.0
METHOD:GET
BEGIN:VTIMEZONE
TZID:Europe/Berlin
BEGIN:STANDARD
DTSTART:20071028T010000
TZOFFSETTO:+0100
TZOFFSETFROM:+0000
TZNAME:CET
END:STANDARD
BEGIN:DAYLIGHT
TZOFFSETTO:+0200
TZOFFSETFROM:+0100
TZNAME:CEST
DTSTART:20080330T020000
END:DAYLIGHT
END:VTIMEZONE
BEGIN:VEVENT
SEQUENCE:1
TRANSP:OPAQUE
UID:termine_Event.2010-10-13.2606815981_portal.mytum.de
DTSTART;TZID=Europe/Berlin:20101027T173000
ORGANIZER;CN="Gabriele Engler":mailto:gabriele.engler@tum.de
DTSTAMP:20260420T191155
LAST-MODIFIED:20101019T170012
CATEGORIES:VORTRAG
SUMMARY:Vortrag  von Frank Mattern (McKinsey): "Erfolg in einer volatilen Welt “
DESCRIPTION:Frank Mattern wird sprechen über unternehmerische Erfolgsfaktoren in einer volatilen Welt, auf Basis seines einzigartigen Einblicks über die Lehren aus der Finanzkrise und nicht zuletzt über die Aussichten für junge Akademiker in der zukünftigen Arbeitswelt. 
LOCATION;ALTREP="https://portal.mytum.de/displayRoomMap?roomid=0980@0509":0980@0509, AUDIMAX, Siemens-Hörsaal, Auditorium Maximum, Gebäude 0509 (Wienandsbau)
CLASS:PUBLIC
URL;VALUE=URL:https://portal.mytum.de/termine/Event.2010-10-13.2606815981
CREATED:20101013T100351
DTEND;TZID=Europe/Berlin:20101027T190000
END:VEVENT
END:VCALENDAR
