BEGIN:VCALENDAR
PRODID:-//Dr. Thomas Wagner\, TUM WWW & Online Services//myTUM Advanced Calendaring 0.1//DE
VERSION:2.0
METHOD:GET
BEGIN:VTIMEZONE
TZID:Europe/Berlin
BEGIN:STANDARD
DTSTART:20071028T010000
TZOFFSETTO:+0100
TZOFFSETFROM:+0000
TZNAME:CET
END:STANDARD
BEGIN:DAYLIGHT
TZOFFSETTO:+0200
TZOFFSETFROM:+0100
TZNAME:CEST
DTSTART:20080330T020000
END:DAYLIGHT
END:VTIMEZONE
BEGIN:VEVENT
SEQUENCE:1
TRANSP:OPAQUE
UID:termine_Event.2010-10-13.1487532256_portal.mytum.de
DTSTART;TZID=Europe/Berlin:20101113T100000
ORGANIZER;CN="Johannes Kube (wihi-winkler@zv.tum.de)":mailto:wihi-winkler@zv.tum.de
DTSTAMP:20260422T223614
LAST-MODIFIED:20101013T095951
CATEGORIES:WORKSHOP
SUMMARY:Fit for FUN – free time, university and normal life in Germany
DESCRIPTION:Are you working at TUM and are you new in Munich? Living and researching in a foreign country is a great adventure! In November we invite you to a survival training that helps you to adapt to your new environment. You will get useful tips for working and living in Munich and Bavaria.
CONTACT:Johannes Kube (wihi-winkler@zv.tum.de)
LOCATION;ALTREP="https://portal.mytum.de/displayRoomMap?roomid=1009@0510":TUM, Arcisstr. 21, Kleiner Sitzungssaal
CLASS:PUBLIC
URL;VALUE=URL:https://portal.mytum.de/termine/Event.2010-10-13.1487532256
CREATED:20101013T095951
DTEND;TZID=Europe/Berlin:20101113T163000
END:VEVENT
END:VCALENDAR
