BEGIN:VCALENDAR
PRODID:-//Dr. Thomas Wagner\, TUM WWW & Online Services//myTUM Advanced Calendaring 0.1//DE
VERSION:2.0
METHOD:GET
BEGIN:VTIMEZONE
TZID:Europe/Berlin
BEGIN:STANDARD
DTSTART:20071028T010000
TZOFFSETTO:+0100
TZOFFSETFROM:+0000
TZNAME:CET
END:STANDARD
BEGIN:DAYLIGHT
TZOFFSETTO:+0200
TZOFFSETFROM:+0100
TZNAME:CEST
DTSTART:20080330T020000
END:DAYLIGHT
END:VTIMEZONE
BEGIN:VEVENT
SEQUENCE:1
TRANSP:OPAQUE
UID:termine_Event.2010-10-12.7312495005_portal.mytum.de
DTSTART;TZID=Europe/Berlin:20110210T183000
ORGANIZER;CN="Julia Ines Müller, julia.mueller@vt.bv.tum.de":mailto:julia.mueller@vt.bv.tum.de
DTSTAMP:20260420T175219
LAST-MODIFIED:20101012T121809
CATEGORIES:VORTRAG
SUMMARY:eE-Tour Allgäu – Elektromobilität als Erfolgsmodell für Tourismusregionen
CONTACT:Julia Ines Müller, julia.mueller@vt.bv.tum.de
LOCATION:Verkehrszentrum, Theresienhöhe 14a, 80339 München
CLASS:PUBLIC
URL;VALUE=URL:https://portal.mytum.de/termine/Event.2010-10-12.7312495005
CREATED:20101012T121809
DTEND;TZID=Europe/Berlin:20110210T200000
END:VEVENT
END:VCALENDAR
