BEGIN:VCALENDAR
PRODID:-//Dr. Thomas Wagner\, TUM WWW & Online Services//myTUM Advanced Calendaring 0.1//DE
VERSION:2.0
METHOD:GET
BEGIN:VTIMEZONE
TZID:Europe/Berlin
BEGIN:STANDARD
DTSTART:20071028T010000
TZOFFSETTO:+0100
TZOFFSETFROM:+0000
TZNAME:CET
END:STANDARD
BEGIN:DAYLIGHT
TZOFFSETTO:+0200
TZOFFSETFROM:+0100
TZNAME:CEST
DTSTART:20080330T020000
END:DAYLIGHT
END:VTIMEZONE
BEGIN:VEVENT
SEQUENCE:1
TRANSP:OPAQUE
UID:termine_Event.2010-10-08.8600914363_portal.mytum.de
DTSTART;TZID=Europe/Berlin:20101013T180000
ORGANIZER;CN="Ulrich Marsch":mailto:ulrich.marsch@tum.de
DTSTAMP:20260423T054021
LAST-MODIFIED:20101008T143103
CATEGORIES:VORTRAG
SUMMARY:Ian McEwan liest aus seinem neuen Buch "Solar"
DESCRIPTION:Der große englische Autor Ian McEwan stellt seinen Roman SOLAR im Audimax vor. Im Mittelpunkt des Buches steht dabei ein Nobelpreisträger der Physik.
CONTACT:Reinhard G. Wittmann, Literaturhaus München
LOCATION:Audi Max
CLASS:PUBLIC
URL;VALUE=URL:https://portal.mytum.de/termine/Event.2010-10-08.8600914363
CREATED:20101008T143025
DTEND;TZID=Europe/Berlin:20101013T200000
END:VEVENT
END:VCALENDAR
