BEGIN:VCALENDAR
PRODID:-//Dr. Thomas Wagner\, TUM WWW & Online Services//myTUM Advanced Calendaring 0.1//DE
VERSION:2.0
METHOD:GET
BEGIN:VTIMEZONE
TZID:Europe/Berlin
BEGIN:STANDARD
DTSTART:20071028T010000
TZOFFSETTO:+0100
TZOFFSETFROM:+0000
TZNAME:CET
END:STANDARD
BEGIN:DAYLIGHT
TZOFFSETTO:+0200
TZOFFSETFROM:+0100
TZNAME:CEST
DTSTART:20080330T020000
END:DAYLIGHT
END:VTIMEZONE
BEGIN:VEVENT
SEQUENCE:1
TRANSP:OPAQUE
UID:termine_Event.2010-07-22.4188106872_portal.mytum.de
DTSTART;TZID=Europe/Berlin:20110606T090000
ORGANIZER;CN="Susanne Dax":mailto:susanne.dax@mytum.de
DTSTAMP:20260426T004854
LAST-MODIFIED:20110523T182121
SUMMARY:TUM Career Week
DESCRIPTION:Vom 6. - 10. Juni 2011 bietet der TUM Career Service an allen Standorten der TUM ein breites Angebot rund um die Themen Karriere und Berufseinstieg. Studierende und Alumni können in dieser Woche an persönlichen Beratungen und verschiedenen Seminaren/Vorträgen teilnehmen sowie in persönlichen Interviews und Workshops interessante Unternehmen kennen lernen. Nähere Informationen unter www.tum.de/career
LOCATION:Innenstadt, Garching, Weihenstephan
CLASS:PUBLIC
URL;VALUE=URL:https://portal.mytum.de/termine/Event.2010-07-22.4188106872
CREATED:20100722T133112
DTEND;TZID=Europe/Berlin:20110610T180000
END:VEVENT
END:VCALENDAR
