BEGIN:VCALENDAR
PRODID:-//Dr. Thomas Wagner\, TUM WWW & Online Services//myTUM Advanced Calendaring 0.1//DE
VERSION:2.0
METHOD:GET
BEGIN:VTIMEZONE
TZID:Europe/Berlin
BEGIN:STANDARD
DTSTART:20071028T010000
TZOFFSETTO:+0100
TZOFFSETFROM:+0000
TZNAME:CET
END:STANDARD
BEGIN:DAYLIGHT
TZOFFSETTO:+0200
TZOFFSETFROM:+0100
TZNAME:CEST
DTSTART:20080330T020000
END:DAYLIGHT
END:VTIMEZONE
BEGIN:VEVENT
SEQUENCE:1
TRANSP:OPAQUE
UID:termine_Event.2010-07-19.6879328792_portal.mytum.de
DTSTART;TZID=Europe/Berlin:20100722T200000
ORGANIZER;CN="Vladimira Vodopivec":mailto:vladimira.vodopivec@mytum.de
DTSTAMP:20260419T231501
LAST-MODIFIED:20100719T141553
CATEGORIES:SOCIAL EVENT
SUMMARY:Abschlusskonzert Sommersemester 2010 Campus-Chor Garching
DESCRIPTION:Werke von: Bach, Reger, King’s Singers u.a. Weitere Mitwirkende Anja Giesecke, Carla Zensen, Christina Mauter, Flöte Stephan Schmitz, Yingtao Gu, Klavier Garchinger Kammerchor Kantorei der Laudatekirche Garching Leitung: Franz M. Wagner 
CONTACT:Franz M. Wagner
LOCATION:Fakultät für Maschinenbau, Hof 5 der Magistrale, Boltzmannstr. 15, Garching
CLASS:PUBLIC
URL;VALUE=URL:https://portal.mytum.de/termine/Event.2010-07-19.6879328792
CREATED:20100719T141553
DTEND;TZID=Europe/Berlin:20100722T220000
END:VEVENT
END:VCALENDAR
