BEGIN:VCALENDAR
PRODID:-//Dr. Thomas Wagner\, TUM WWW & Online Services//myTUM Advanced Calendaring 0.1//DE
VERSION:2.0
METHOD:GET
BEGIN:VTIMEZONE
TZID:Europe/Berlin
BEGIN:STANDARD
DTSTART:20071028T010000
TZOFFSETTO:+0100
TZOFFSETFROM:+0000
TZNAME:CET
END:STANDARD
BEGIN:DAYLIGHT
TZOFFSETTO:+0200
TZOFFSETFROM:+0100
TZNAME:CEST
DTSTART:20080330T020000
END:DAYLIGHT
END:VTIMEZONE
BEGIN:VEVENT
SEQUENCE:1
TRANSP:OPAQUE
UID:termine_Event.2010-06-20.1994798529_portal.mytum.de
DTSTART;TZID=Europe/Berlin:20101109T180000
ORGANIZER;CN="Martin Luce":mailto:luce@tum.de
DTSTAMP:20260419T231521
LAST-MODIFIED:20100620T000816
SUMMARY:Feierliche Eröffnung des Vorhoelzer Forums
LOCATION:Vorhoelzer Forum
CLASS:PUBLIC
URL;VALUE=URL:https://portal.mytum.de/termine/Event.2010-06-20.1994798529
CREATED:20100620T000816
DTEND;TZID=Europe/Berlin:20101109T200000
END:VEVENT
END:VCALENDAR
