BEGIN:VCALENDAR
PRODID:-//Dr. Thomas Wagner\, TUM WWW & Online Services//myTUM Advanced Calendaring 0.1//DE
VERSION:2.0
METHOD:GET
BEGIN:VTIMEZONE
TZID:Europe/Berlin
BEGIN:STANDARD
DTSTART:20071028T010000
TZOFFSETTO:+0100
TZOFFSETFROM:+0000
TZNAME:CET
END:STANDARD
BEGIN:DAYLIGHT
TZOFFSETTO:+0200
TZOFFSETFROM:+0100
TZNAME:CEST
DTSTART:20080330T020000
END:DAYLIGHT
END:VTIMEZONE
BEGIN:VEVENT
SEQUENCE:1
TRANSP:OPAQUE
UID:termine_Event.2010-05-17.4108455452_portal.mytum.de
DTSTART;TZID=Europe/Berlin:20100518T180000
ORGANIZER;CN="Jens Grudno, jens.grudno@tuinvest.de":mailto:jens.grudno@tuinvest.de
DTSTAMP:20260421T222334
LAST-MODIFIED:20100517T101749
CATEGORIES:VORTRAG
SUMMARY:Finanzierung von Sozialunternehmern + LOHAS und Green Lifestyle 
DESCRIPTION:Aus der Workshop- und Vortragsreihe "Social Investments" des TU Investment Clubs findet die vierte Veranstaltung zum Thema “Finanzierung von Sozialunternehmern + LOHAS und Green Lifestyle“ statt.
CONTACT:Jens Grudno, jens.grudno@tuinvest.de
LOCATION;ALTREP="https://portal.mytum.de/displayRoomMap?roomid=1020@0510":1020@0510, SENATSSAAL, Gebäude 0510
CLASS:PUBLIC
URL;VALUE=URL:https://portal.mytum.de/termine/Event.2010-05-17.4108455452
ATTACH;VALUE=URI:http://tuinvest.de/index.php?page=speakers
CREATED:20100517T101116
DTEND;TZID=Europe/Berlin:20100518T193000
END:VEVENT
END:VCALENDAR
