BEGIN:VCALENDAR
PRODID:-//Dr. Thomas Wagner\, TUM WWW & Online Services//myTUM Advanced Calendaring 0.1//DE
VERSION:2.0
METHOD:GET
BEGIN:VTIMEZONE
TZID:Europe/Berlin
BEGIN:STANDARD
DTSTART:20071028T010000
TZOFFSETTO:+0100
TZOFFSETFROM:+0000
TZNAME:CET
END:STANDARD
BEGIN:DAYLIGHT
TZOFFSETTO:+0200
TZOFFSETFROM:+0100
TZNAME:CEST
DTSTART:20080330T020000
END:DAYLIGHT
END:VTIMEZONE
BEGIN:VEVENT
SEQUENCE:1
TRANSP:OPAQUE
UID:termine_Event.2010-04-13.1552244277_portal.mytum.de
DTSTART;TZID=Europe/Berlin:20100623T160000
ORGANIZER;CN="Dr. Isabell Schneweis-Fleischmann, Hans-Eisenmann-Zentrum@wzw.tum.de":mailto:Hans-Eisenmann-Zentrum@wzw.tum.de
DTSTAMP:20260420T031650
LAST-MODIFIED:20100413T083026
CATEGORIES:VORTRAG
SUMMARY:Knappe Wasserressourcen - eine Herausforderung nicht nur für die Landwirtschaft
CONTACT:Dr. Isabell Schneweis-Fleischmann, Hans-Eisenmann-Zentrum@wzw.tum.de
LOCATION:Hörsaal 1 (Dekanatsgebäude des WZW), Alte Akademie 8, 85354 Freising-Weihenstephan
CLASS:PUBLIC
URL;VALUE=URL:https://portal.mytum.de/termine/Event.2010-04-13.1552244277
CREATED:20100413T083026
DTEND;TZID=Europe/Berlin:20100623T180000
END:VEVENT
END:VCALENDAR
