BEGIN:VCALENDAR
PRODID:-//Dr. Thomas Wagner\, TUM WWW & Online Services//myTUM Advanced Calendaring 0.1//DE
VERSION:2.0
METHOD:GET
BEGIN:VTIMEZONE
TZID:Europe/Berlin
BEGIN:STANDARD
DTSTART:20071028T010000
TZOFFSETTO:+0100
TZOFFSETFROM:+0000
TZNAME:CET
END:STANDARD
BEGIN:DAYLIGHT
TZOFFSETTO:+0200
TZOFFSETFROM:+0100
TZNAME:CEST
DTSTART:20080330T020000
END:DAYLIGHT
END:VTIMEZONE
BEGIN:VEVENT
SEQUENCE:1
TRANSP:OPAQUE
UID:termine_Event.2009-11-20.9431008570_portal.mytum.de
DTSTART;TZID=Europe/Berlin:20091121T100000
ORGANIZER;CN="Miriam Voß":mailto:miriam.voss@tum.de
DTSTAMP:20260421T062820
LAST-MODIFIED:20091120T180054
CATEGORIES:SOCIAL EVENT
SUMMARY:Nanoday - Tag der Nanowissenschaften
DESCRIPTION:ERLEBEN SIE NANOWISSENSCHAFTEN HAUTNAH! Jede Menge „Nanowissenschaft zum Anfassen“ gibt's beim NanoDay 2009 im Deutschen Museum. Wissenschaftler der Nanosystems Initiative Munich (NIM) zeigen und erklären ihre Forschung vor Ort an Infoständen und in Vorträgen.
LOCATION:Deutsches Museum
CLASS:PUBLIC
URL;VALUE=URL:https://portal.mytum.de/termine/Event.2009-11-20.9431008570
ATTACH;VALUE=URI:http://www.nano-initiative-munich.de/fileadmin/media/events/NiM_nanoDay_Flyer_1109_07.pdf
CREATED:20091120T175511
DTEND;TZID=Europe/Berlin:20091121T170000
END:VEVENT
END:VCALENDAR
