BEGIN:VCALENDAR
PRODID:-//Dr. Thomas Wagner\, TUM WWW & Online Services//myTUM Advanced Calendaring 0.1//DE
VERSION:2.0
METHOD:GET
BEGIN:VTIMEZONE
TZID:Europe/Berlin
BEGIN:STANDARD
DTSTART:20071028T010000
TZOFFSETTO:+0100
TZOFFSETFROM:+0000
TZNAME:CET
END:STANDARD
BEGIN:DAYLIGHT
TZOFFSETTO:+0200
TZOFFSETFROM:+0100
TZNAME:CEST
DTSTART:20080330T020000
END:DAYLIGHT
END:VTIMEZONE
BEGIN:VEVENT
SEQUENCE:1
TRANSP:OPAQUE
UID:termine_Event.2009-11-02.6424177289_portal.mytum.de
DTSTART;TZID=Europe/Berlin:20100310T150000
ORGANIZER;CN="Christine Röger, Tel. +49 (0) 8161 71 2832, Email: christine.roeger@wzw.tum.de":mailto:christine.roeger@wzw.tum.de
DTSTAMP:20260424T032815
LAST-MODIFIED:20091102T095132
CATEGORIES:TAGUNG
SUMMARY:Symposium "Metabolomics and More - The Impact of Metabolomics on the Life Sciences"
DESCRIPTION:1st International Metabolomics Symposium in Germany - Main Topics: Analytic Methods, OMICS & Genotype/Systems Biology, Metabolomics in Nutrition & Food, National Metabolomics Initiatives, Metabolomics & Disease, Metabolomics & Biomarkers.... - Leading scientists will discuss the value of metabolomics in basic science applications, in diagnostics and in nutrition and food research - Experts will present latebreaking discoveries, as well as challenges and pitfalls in metabolomis studies - The symposium will be a great opportunity for networking and building trustful relationships across borders and nationalities
CONTACT:Christine Röger, Tel. +49 (0) 8161 71 2832, Email: christine.roeger@wzw.tum.de
LOCATION:Zentrales Hörsaalgebäude, Campus Freising-Weihenstephan
CLASS:PUBLIC
URL;VALUE=URL:https://portal.mytum.de/termine/Event.2009-11-02.6424177289
CREATED:20091102T094430
DTEND;TZID=Europe/Berlin:20100312T180000
END:VEVENT
END:VCALENDAR
