BEGIN:VCALENDAR
PRODID:-//Dr. Thomas Wagner\, TUM WWW & Online Services//myTUM Advanced Calendaring 0.1//DE
VERSION:2.0
METHOD:GET
BEGIN:VTIMEZONE
TZID:Europe/Berlin
BEGIN:STANDARD
DTSTART:20071028T010000
TZOFFSETTO:+0100
TZOFFSETFROM:+0000
TZNAME:CET
END:STANDARD
BEGIN:DAYLIGHT
TZOFFSETTO:+0200
TZOFFSETFROM:+0100
TZNAME:CEST
DTSTART:20080330T020000
END:DAYLIGHT
END:VTIMEZONE
BEGIN:VEVENT
SEQUENCE:1
TRANSP:OPAQUE
UID:termine_Event.2009-10-29.2085412140_portal.mytum.de
DTSTART;TZID=Europe/Berlin:20091106T180000
ORGANIZER;CN="Johannes Kube (Wihi-winkler@zv.tum.de)":mailto:Wihi-winkler@zv.tum.de
DTSTAMP:20260423T110826
LAST-MODIFIED:20091029T102801
CATEGORIES:SOCIAL EVENT
SUMMARY:Friday Get-Togethers for International Researchers
DESCRIPTION:On the first Friday of every month you will have the chance to meet other international researchers from the TU München, the advisor for international post-docs and professors (Dorit Winkler)and her student assistant (Johannes Kube) as well as many other guests including researchers from the other Munich university (LMU) and the Max Planck society (MPG) over a glass of wine and some snacks. Your partners and family/children are warmly welcome!
CONTACT:Johannes Kube (Wihi-winkler@zv.tum.de)
LOCATION:Guesthouse IBZ, Amalienstrasse 38, München; in the clubroom on the groundfloor (please ring the doorbell, if the entrance is closed)
RRULE:FREQ=MONTHLY;UNTIL=20100330T235959;WKST=MO;BYDAY=1FR
CLASS:PUBLIC
URL;VALUE=URL:https://portal.mytum.de/termine/Event.2009-10-29.2085412140
CREATED:20091029T093415
DTEND;TZID=Europe/Berlin:20091106T200000
END:VEVENT
END:VCALENDAR
