BEGIN:VCALENDAR
PRODID:-//Dr. Thomas Wagner\, TUM WWW & Online Services//myTUM Advanced Calendaring 0.1//DE
VERSION:2.0
METHOD:GET
BEGIN:VTIMEZONE
TZID:Europe/Berlin
BEGIN:STANDARD
DTSTART:20071028T010000
TZOFFSETTO:+0100
TZOFFSETFROM:+0000
TZNAME:CET
END:STANDARD
BEGIN:DAYLIGHT
TZOFFSETTO:+0200
TZOFFSETFROM:+0100
TZNAME:CEST
DTSTART:20080330T020000
END:DAYLIGHT
END:VTIMEZONE
BEGIN:VEVENT
SEQUENCE:1
TRANSP:OPAQUE
UID:termine_Event.2009-10-28.5938742300_portal.mytum.de
DTSTART;TZID=Europe/Berlin:20100210T193000
ORGANIZER;CN="Markus Bernards":mailto:markus.bernards@tum.de
DTSTAMP:20260421T022729
LAST-MODIFIED:20091028T150842
CATEGORIES:VORTRAG
SUMMARY:Schwerpunkt Global Balances: Am Rande des Abgrunds - Kippt unser Klimasystem? - Ringvorlesung Umwelt
DESCRIPTION:Das globale Klimasystem hat kritische Stellen, an denen es schlagartig kippen könnte. Das Überschreiten dieser Stellen wird mit schwerwiegenden Veränderungen unserer Lebensbedingungen einhergehen und unumkehrbare Klimaveränderungen auslösen. Stehen wir am Rande eines solchen Abgrunds und ahnen noch nicht die Konsequenzen? Wie groß ist das Risiko des Klimawandels für Deutschland und wie begegnen wir den Folgen? Welche politischen Weichenstellungen sind jetzt wichtig für den nationalen und internationalen Klimaschutz? Mit seiner „Klimapolitik-Konzeption“ gibt das Umweltbundesamt Antworten und der Bundesregierung wichtige Impulse für die Klima- und Energiepolitik mit auf den Weg.
CONTACT:Axel Kasparek
LOCATION:Hörsaal 1100 / Hauptgebäude 
CLASS:PUBLIC
URL;VALUE=URL:https://portal.mytum.de/termine/Event.2009-10-28.5938742300
ATTACH;VALUE=URI:http://rivo.fs.tum.de
CREATED:20091028T150328
DTEND;TZID=Europe/Berlin:20100210T210000
END:VEVENT
END:VCALENDAR
