BEGIN:VCALENDAR
PRODID:-//Dr. Thomas Wagner\, TUM WWW & Online Services//myTUM Advanced Calendaring 0.1//DE
VERSION:2.0
METHOD:GET
BEGIN:VTIMEZONE
TZID:Europe/Berlin
BEGIN:STANDARD
DTSTART:20071028T010000
TZOFFSETTO:+0100
TZOFFSETFROM:+0000
TZNAME:CET
END:STANDARD
BEGIN:DAYLIGHT
TZOFFSETTO:+0200
TZOFFSETFROM:+0100
TZNAME:CEST
DTSTART:20080330T020000
END:DAYLIGHT
END:VTIMEZONE
BEGIN:VEVENT
SEQUENCE:1
TRANSP:OPAQUE
UID:termine_Event.2009-10-26.6128893938_portal.mytum.de
DTSTART;TZID=Europe/Berlin:20100121T180000
ORGANIZER;CN="Fr. Bieber, bauphysik@bv.tum.de":mailto:bauphysik@bv.tum.de
DTSTAMP:20260421T063142
LAST-MODIFIED:20091027T101957
CATEGORIES:VORTRAG
SUMMARY:Bauphysik im Kontext der nachhaltigen Architektur
CONTACT:Fr. Bieber, bauphysik@bv.tum.de
LOCATION:Hörsaal 0670, Hauptgebäude TUM Innenstadt 
CLASS:PUBLIC
URL;VALUE=URL:https://portal.mytum.de/termine/Event.2009-10-26.6128893938
ATTACH;VALUE=URI:http://www.bp.bv.tum.de/?Veranstaltungen
CREATED:20091026T145222
DTEND;TZID=Europe/Berlin:20100121T193000
END:VEVENT
END:VCALENDAR
