BEGIN:VCALENDAR
PRODID:-//Dr. Thomas Wagner\, TUM WWW & Online Services//myTUM Advanced Calendaring 0.1//DE
VERSION:2.0
METHOD:GET
BEGIN:VTIMEZONE
TZID:Europe/Berlin
BEGIN:STANDARD
DTSTART:20071028T010000
TZOFFSETTO:+0100
TZOFFSETFROM:+0000
TZNAME:CET
END:STANDARD
BEGIN:DAYLIGHT
TZOFFSETTO:+0200
TZOFFSETFROM:+0100
TZNAME:CEST
DTSTART:20080330T020000
END:DAYLIGHT
END:VTIMEZONE
BEGIN:VEVENT
SEQUENCE:1
TRANSP:OPAQUE
UID:termine_Event.2009-10-20.4678953818_portal.mytum.de
DTSTART;TZID=Europe/Berlin:20100208T170000
ORGANIZER;CN="Sabine Gmeinwieser":mailto:sabine.gmeinwieser@tum.de
DTSTAMP:20260423T011037
LAST-MODIFIED:20091020T165411
CATEGORIES:VORTRAG
SUMMARY:Vortragsreihe Erneuerbare Energien: Eine Gemeinde auf dem Weg zur energetischen Unabhängigkeit
DESCRIPTION:Im Rahmen der Vortragsreihe Erneuerbare Energien informiert der Bürgermeister der Gemeinde Ascha, Wolfgang Zirngibl, über die nachhaltige Kommunalentwicklung seiner Gemeinde.
LOCATION:Kompetenzzentrum für Nachwachsende Rohstoffe, Schulgasse 18, 94315 Straubing
CLASS:PUBLIC
URL;VALUE=URL:https://portal.mytum.de/termine/Event.2009-10-20.4678953818
CREATED:20091020T165411
DTEND;TZID=Europe/Berlin:20100208T190000
END:VEVENT
END:VCALENDAR
