BEGIN:VCALENDAR
PRODID:-//Dr. Thomas Wagner\, TUM WWW & Online Services//myTUM Advanced Calendaring 0.1//DE
VERSION:2.0
METHOD:GET
BEGIN:VTIMEZONE
TZID:Europe/Berlin
BEGIN:STANDARD
DTSTART:20071028T010000
TZOFFSETTO:+0100
TZOFFSETFROM:+0000
TZNAME:CET
END:STANDARD
BEGIN:DAYLIGHT
TZOFFSETTO:+0200
TZOFFSETFROM:+0100
TZNAME:CEST
DTSTART:20080330T020000
END:DAYLIGHT
END:VTIMEZONE
BEGIN:VEVENT
SEQUENCE:1
TRANSP:OPAQUE
UID:termine_Event.2009-09-14.9690942470_portal.mytum.de
DTSTART;TZID=Europe/Berlin:20091009T160000
ORGANIZER;CN="M. Lautner, m.lautner@mytum.de":mailto:m.lautner@mytum.de
DTSTAMP:20260425T152925
LAST-MODIFIED:20090914T094157
CATEGORIES:VORTRAG
SUMMARY:Kolloquium anläßlich der Verleihung des Eduard-Rhein-Preises
DESCRIPTION:ZUR ENTWICKLUNG DER LIQUID CRYSTAL DISPLAY (LCD) TECHNOLOGIE
CONTACT:M. Lautner, m.lautner@mytum.de
LOCATION;ALTREP="https://portal.mytum.de/displayRoomMap?roomid=0602@0506":0602@0506, HÖRSAAL ANST.O.EXBÜHNE, Gebäude 0506
CLASS:PUBLIC
URL;VALUE=URL:https://portal.mytum.de/termine/Event.2009-09-14.9690942470
CREATED:20090914T094133
DTEND;TZID=Europe/Berlin:20091009T180000
END:VEVENT
END:VCALENDAR
