BEGIN:VCALENDAR
PRODID:-//Dr. Thomas Wagner\, TUM WWW & Online Services//myTUM Advanced Calendaring 0.1//DE
VERSION:2.0
METHOD:GET
BEGIN:VTIMEZONE
TZID:Europe/Berlin
BEGIN:STANDARD
DTSTART:20071028T010000
TZOFFSETTO:+0100
TZOFFSETFROM:+0000
TZNAME:CET
END:STANDARD
BEGIN:DAYLIGHT
TZOFFSETTO:+0200
TZOFFSETFROM:+0100
TZNAME:CEST
DTSTART:20080330T020000
END:DAYLIGHT
END:VTIMEZONE
BEGIN:VEVENT
SEQUENCE:1
TRANSP:OPAQUE
UID:termine_Event.2009-08-24.8150320658_portal.mytum.de
DTSTART;TZID=Europe/Berlin:20090924T093000
ORGANIZER;CN="Hans Pongratz":mailto:pongratz@tum.de
DTSTAMP:20260423T054233
LAST-MODIFIED:20090824T154704
CATEGORIES:WORKSHOP
SUMMARY:Abschlussworkshop IntegraTUM
DESCRIPTION:Im Juli 2004 startete das Projekt IntegraTUM um eine nahtlose und benutzerfreundliche Informations- und Kommunikationsinfrastruktur für die Technische Universität München zu schaffen. Zum Abschluss des Projekts möchten wir das Erreichte präsentieren, uns mit ähnlichen Aktivitäten an anderen Hochschulen vergleichen und einen Blick in die Zukunft werfen. Der Workshop richtet sich an alle am Thema Integriertes Informationsmanagement an Hochschulen Interessierten. Wir würden uns sehr freuen, Sie zu unserem Workshop begrüßen zu können und bitten um Anmeldung bis zum 10.9.2009 unter workshop@tum.de oder Fax 089-289-17662. Die Teilnahme ist kostenlos.
CONTACT:Dr. Rolf Borgeest
LOCATION:LRZ, Boltzmannstr. 1, 85748 Garching b. München
CLASS:PUBLIC
URL;VALUE=URL:https://portal.mytum.de/termine/Event.2009-08-24.8150320658
ATTACH;VALUE=URI:http://portal.mytum.de/iuk/integratum/dokumente/index_html/IntegraTUM_Abschlussworkshop.pdf
CREATED:20090824T154314
DTEND;TZID=Europe/Berlin:20090924T180000
END:VEVENT
END:VCALENDAR
