BEGIN:VCALENDAR
PRODID:-//Dr. Thomas Wagner\, TUM WWW & Online Services//myTUM Advanced Calendaring 0.1//DE
VERSION:2.0
METHOD:GET
BEGIN:VTIMEZONE
TZID:Europe/Berlin
BEGIN:STANDARD
DTSTART:20071028T010000
TZOFFSETTO:+0100
TZOFFSETFROM:+0000
TZNAME:CET
END:STANDARD
BEGIN:DAYLIGHT
TZOFFSETTO:+0200
TZOFFSETFROM:+0100
TZNAME:CEST
DTSTART:20080330T020000
END:DAYLIGHT
END:VTIMEZONE
BEGIN:VEVENT
SEQUENCE:1
TRANSP:OPAQUE
UID:termine_Event.2009-07-09.3950939681_portal.mytum.de
DTSTART;TZID=Europe/Berlin:20090713T100000
ORGANIZER;CN="Claudia R. Luksch, c.luksch@wzw.tum.de":mailto:c.luksch@wzw.tum.de
DTSTAMP:20260420T004454
LAST-MODIFIED:20111201T130839
CATEGORIES:VORTRAG
SUMMARY:Computational Gene Finding with Statistical Models 
DESCRIPTION:special talk: Computational Gene Finding with Statistical Models 
CONTACT:Claudia R. Luksch, c.luksch@wzw.tum.de
LOCATION:HelmholtzZentrum München, Neuherberg, Bldg. 57, Room 052, http://www.helmholtz-muenchen.de/ueber-das-zentrum/anfahrt/index.html
CLASS:PUBLIC
URL;VALUE=URL:https://portal.mytum.de/termine/Event.2009-07-09.3950939681
ATTACH;VALUE=URI:http://www.cellular-systems.de
CREATED:20090709T093107
DTEND;TZID=Europe/Berlin:20090713T110000
END:VEVENT
END:VCALENDAR
