BEGIN:VCALENDAR
PRODID:-//Dr. Thomas Wagner\, TUM WWW & Online Services//myTUM Advanced Calendaring 0.1//DE
VERSION:2.0
METHOD:GET
BEGIN:VTIMEZONE
TZID:Europe/Berlin
BEGIN:STANDARD
DTSTART:20071028T010000
TZOFFSETTO:+0100
TZOFFSETFROM:+0000
TZNAME:CET
END:STANDARD
BEGIN:DAYLIGHT
TZOFFSETTO:+0200
TZOFFSETFROM:+0100
TZNAME:CEST
DTSTART:20080330T020000
END:DAYLIGHT
END:VTIMEZONE
BEGIN:VEVENT
SEQUENCE:1
TRANSP:OPAQUE
UID:termine_Event.2009-07-06.5279374738_portal.mytum.de
DTSTART;TZID=Europe/Berlin:20090716T200000
ORGANIZER;CN="Georg Tautschnig":mailto:georg.tautschnig@mytum.de
DTSTAMP:20260423T210725
LAST-MODIFIED:20090706T215427
CATEGORIES:SOCIAL EVENT
SUMMARY:Semesterabschlusskonzert Sinfonietta München
DESCRIPTION:Die Sinfonietta München ist ein Sinfonieorchester bestehend aus etwa 70 Studenten der TU und LMU. Unter der Leitung von Hartmut Zöbeley hören Sie die Ouvertüre zur Fledermaus von Johann Strauss, das Tripelkonzert in C-Dur von Ludwig van Beethoven und die Sinfonie Fantastique von Hector Berlioz. Das Konzert findet in der großen Aula der Ludwig-Maximilians-Universität am Geschwister-Scholl-Platz 1 in München statt.  Karten erhalten Sie bei Hieber Lindberg, Sonnenstr. 15, unter www.sinfonietta-muenchen.de und an der Abendkasse ab 19 Uhr. Eintritt: €12,-, Schüler und Studenten €7,-.
CONTACT:Cornelia Götz
LOCATION:Große Aula der LMU, München
CLASS:PUBLIC
URL;VALUE=URL:https://portal.mytum.de/termine/Event.2009-07-06.5279374738
ATTACH;VALUE=URI:http://www.sinfonietta-muenchen.de/
CREATED:20090706T214550
DTEND;TZID=Europe/Berlin:20090716T223000
END:VEVENT
END:VCALENDAR
