BEGIN:VCALENDAR
PRODID:-//Dr. Thomas Wagner\, TUM WWW & Online Services//myTUM Advanced Calendaring 0.1//DE
VERSION:2.0
METHOD:GET
BEGIN:VTIMEZONE
TZID:Europe/Berlin
BEGIN:STANDARD
DTSTART:20071028T010000
TZOFFSETTO:+0100
TZOFFSETFROM:+0000
TZNAME:CET
END:STANDARD
BEGIN:DAYLIGHT
TZOFFSETTO:+0200
TZOFFSETFROM:+0100
TZNAME:CEST
DTSTART:20080330T020000
END:DAYLIGHT
END:VTIMEZONE
BEGIN:VEVENT
SEQUENCE:1
TRANSP:OPAQUE
UID:termine_Event.2009-06-09.6752628640_portal.mytum.de
DTSTART;TZID=Europe/Berlin:20090617T180000
ORGANIZER;CN="Léonie Jane Corry":mailto:l.corry@tum.de
DTSTAMP:20260423T071327
LAST-MODIFIED:20090609T125426
CATEGORIES:VORTRAG
SUMMARY:Merging Chemical and Biological Space
DESCRIPTION:Bioinformatics Colloquium
CONTACT:Prof. H. W. Mewes
LOCATION:LMU, Richard-Wagner-Str. 10, HS 102
CLASS:PUBLIC
URL;VALUE=URL:https://portal.mytum.de/termine/Event.2009-06-09.6752628640
CREATED:20090609T125415
DTEND;TZID=Europe/Berlin:20090617T190000
END:VEVENT
END:VCALENDAR
