BEGIN:VCALENDAR
PRODID:-//Dr. Thomas Wagner\, TUM WWW & Online Services//myTUM Advanced Calendaring 0.1//DE
VERSION:2.0
METHOD:GET
BEGIN:VTIMEZONE
TZID:Europe/Berlin
BEGIN:STANDARD
DTSTART:20071028T010000
TZOFFSETTO:+0100
TZOFFSETFROM:+0000
TZNAME:CET
END:STANDARD
BEGIN:DAYLIGHT
TZOFFSETTO:+0200
TZOFFSETFROM:+0100
TZNAME:CEST
DTSTART:20080330T020000
END:DAYLIGHT
END:VTIMEZONE
BEGIN:VEVENT
SEQUENCE:1
TRANSP:OPAQUE
UID:termine_Event.2009-05-27.7482415682_portal.mytum.de
DTSTART;TZID=Europe/Berlin:20090527T101948
ORGANIZER;CN="Simone Stein; career@tum.de; 089 289 22138":mailto:career@tum.de
DTSTAMP:20260425T152855
LAST-MODIFIED:20090527T102316
CATEGORIES:VORTRAG
SUMMARY:Vortrag: Go West! Praktikum und Arbeiten in Amerika oder Kanada
DESCRIPTION:Der Career Service der TUM lädt Studierende und Alumni ein zum Vortrag: Go West! Praktikum und Arbeiten in den USA oder Kanada 
CONTACT:Simone Stein; career@tum.de; 089 289 22138
LOCATION:TU München, Arcisstr. 21 (Stammgelände), Raum 1601 (1. Stock, Theresianum)
CLASS:PUBLIC
URL;VALUE=URL:https://portal.mytum.de/termine/Event.2009-05-27.7482415682
CREATED:20090527T102310
DTEND;TZID=Europe/Berlin:20090527T101948
END:VEVENT
END:VCALENDAR
