BEGIN:VCALENDAR
PRODID:-//Dr. Thomas Wagner\, TUM WWW & Online Services//myTUM Advanced Calendaring 0.1//DE
VERSION:2.0
METHOD:GET
BEGIN:VTIMEZONE
TZID:Europe/Berlin
BEGIN:STANDARD
DTSTART:20071028T010000
TZOFFSETTO:+0100
TZOFFSETFROM:+0000
TZNAME:CET
END:STANDARD
BEGIN:DAYLIGHT
TZOFFSETTO:+0200
TZOFFSETFROM:+0100
TZNAME:CEST
DTSTART:20080330T020000
END:DAYLIGHT
END:VTIMEZONE
BEGIN:VEVENT
SEQUENCE:1
TRANSP:OPAQUE
UID:termine_Event.2009-05-20.2451528838_portal.mytum.de
DTSTART;TZID=Europe/Berlin:20090715T121500
ORGANIZER;CN="Renate Schöpf":mailto:renate.schoepf@mytum.de
DTSTAMP:20260423T071117
LAST-MODIFIED:20090520T112742
CATEGORIES:VORTRAG
SUMMARY:"Endocrinology of Yak Reproduction" 
CONTACT:Prof. Meyer, LS Physiologie
LOCATION:Hörsaal 17, Hochfeldweg 1, Freising-Weihenstephan
CLASS:PUBLIC
URL;VALUE=URL:https://portal.mytum.de/termine/Event.2009-05-20.2451528838
CREATED:20090520T112739
DTEND;TZID=Europe/Berlin:20090715T140000
END:VEVENT
END:VCALENDAR
