BEGIN:VCALENDAR
PRODID:-//Dr. Thomas Wagner\, TUM WWW & Online Services//myTUM Advanced Calendaring 0.1//DE
VERSION:2.0
METHOD:GET
BEGIN:VTIMEZONE
TZID:Europe/Berlin
BEGIN:STANDARD
DTSTART:20071028T010000
TZOFFSETTO:+0100
TZOFFSETFROM:+0000
TZNAME:CET
END:STANDARD
BEGIN:DAYLIGHT
TZOFFSETTO:+0200
TZOFFSETFROM:+0100
TZNAME:CEST
DTSTART:20080330T020000
END:DAYLIGHT
END:VTIMEZONE
BEGIN:VEVENT
SEQUENCE:1
TRANSP:OPAQUE
UID:termine_Event.2009-05-07.2598372338_portal.mytum.de
DTSTART;TZID=Europe/Berlin:20090615T170000
ORGANIZER;CN="Gerhard Tilk":mailto:gert.tilk@tum.de
DTSTAMP:20260426T055724
LAST-MODIFIED:20090507T112024
CATEGORIES:VORTRAG
SUMMARY:Öffentliche Vortragsreihe "Erneuerbare Energien": "Hirse, Miscanthus und Co. als Energie- und Rohstoffpflanzen"
LOCATION:Schulungs- und Ausstellungszentrum (SAZ), Schulgasse 18, 94315 Straubing
CLASS:PUBLIC
URL;VALUE=URL:https://portal.mytum.de/termine/Event.2009-05-07.2598372338
ATTACH;VALUE=URI:http://www.wz-straubing.de
ATTACH;VALUE=URI:https://portal.mytum.de/termine/Event.2009-05-07.2598372338/1
CREATED:20090507T112020
DTEND;TZID=Europe/Berlin:20090615T190000
END:VEVENT
END:VCALENDAR
