BEGIN:VCALENDAR
PRODID:-//Dr. Thomas Wagner\, TUM WWW & Online Services//myTUM Advanced Calendaring 0.1//DE
VERSION:2.0
METHOD:GET
BEGIN:VTIMEZONE
TZID:Europe/Berlin
BEGIN:STANDARD
DTSTART:20071028T010000
TZOFFSETTO:+0100
TZOFFSETFROM:+0000
TZNAME:CET
END:STANDARD
BEGIN:DAYLIGHT
TZOFFSETTO:+0200
TZOFFSETFROM:+0100
TZNAME:CEST
DTSTART:20080330T020000
END:DAYLIGHT
END:VTIMEZONE
BEGIN:VEVENT
SEQUENCE:1
TRANSP:OPAQUE
UID:termine_Event.2009-04-30.3849777580_portal.mytum.de
DTSTART;TZID=Europe/Berlin:20090810T090000
ORGANIZER;CN="Harald Kienegger":mailto:harald.kienegger@tum.de
DTSTAMP:20260423T054110
LAST-MODIFIED:20090430T125853
CATEGORIES:WORKSHOP
SUMMARY:SAP Zertifizierungskurs für Studierende
DESCRIPTION:Im Rahmen einer Kooperation bietet SAP University Alliances und SAP Education zusammen mit Hochschulen Studenten wirtschaftlicher und technischer Studiengänge erstmals die Möglichkeit, während ihres Studiums an einem SAP Zertifizierungskurs teilnehmen zu können.
CONTACT:Dr. Holger Wittges
LOCATION;ALTREP="https://portal.mytum.de/displayRoomMap?roomid=01.13.034@5613":01.13.034@5613, PRAKTIKUM, Gebäude 5613
CLASS:PUBLIC
URL;VALUE=URL:https://portal.mytum.de/termine/Event.2009-04-30.3849777580
ATTACH;VALUE=URI:http://www.winfobase.de
CREATED:20090430T121423
DTEND;TZID=Europe/Berlin:20090821T160000
END:VEVENT
END:VCALENDAR
